BEGIN:VCALENDAR
VERSION:2.0
PRODID:-//Sabre//Sabre VObject 4.5.8//EN
CALSCALE:GREGORIAN
BEGIN:VEVENT
UID:sabre-vobject-b3bbdadf-e9c2-4511-a039-cf14cb8bd3e5
DTSTAMP:20260419T223201Z
SUMMARY:Korean Mask Painting
DESCRIPTION:
X-ALT-DESC:FMTTYPE=text/html:<!DOCTYPE HTML PUBLIC "-//W3C//DTD HTML 3.2//E
 N"><HTML></HTML>
CREATED;TZID=Asia/Seoul:20250212T113410
URL;VALUE=URI:https://daegu.armymwr.com/calendar/event
DTSTART;TZID=Asia/Seoul:20250226T140000
DTEND;TZID=Asia/Seoul:20250226T160000
SEQUENCE:0
END:VEVENT
END:VCALENDAR
