BEGIN:VCALENDAR
VERSION:2.0
PRODID:-//Sabre//Sabre VObject 4.5.8//EN
CALSCALE:GREGORIAN
BEGIN:VEVENT
UID:sabre-vobject-03e63cb0-b2e0-4e86-8131-14710629d9c0
DTSTAMP:20260419T172402Z
SUMMARY:Earth Day Event
DESCRIPTION:
X-ALT-DESC:FMTTYPE=text/html:<!DOCTYPE HTML PUBLIC "-//W3C//DTD HTML 3.2//E
 N"><HTML></HTML>
CREATED;TZID=Asia/Seoul:20250211T151013
URL;VALUE=URI:https://daegu.armymwr.com/calendar/event
DTSTART;TZID=Asia/Seoul:20250321T120000
DTEND;TZID=Asia/Seoul:20250321T130000
SEQUENCE:0
END:VEVENT
END:VCALENDAR
