BEGIN:VCALENDAR
VERSION:2.0
PRODID:-//Sabre//Sabre VObject 4.5.8//EN
CALSCALE:GREGORIAN
BEGIN:VEVENT
UID:sabre-vobject-5733a0aa-403d-49c9-8519-f357f76515ac
DTSTAMP:20260420T002606Z
SUMMARY:Strawberry Picking & Jam Making Tour
DESCRIPTION:
X-ALT-DESC:FMTTYPE=text/html:<!DOCTYPE HTML PUBLIC "-//W3C//DTD HTML 3.2//E
 N"><HTML></HTML>
CREATED;TZID=Asia/Seoul:20250205T151554
URL;VALUE=URI:https://daegu.armymwr.com/calendar/event
DTSTART;TZID=Asia/Seoul:20250223T000000
DTEND;TZID=Asia/Seoul:20250223T235959
SEQUENCE:0
END:VEVENT
END:VCALENDAR
