BEGIN:VCALENDAR
VERSION:2.0
PRODID:-//Sabre//Sabre VObject 4.5.8//EN
CALSCALE:GREGORIAN
BEGIN:VEVENT
UID:sabre-vobject-0eff7444-5ea8-4eca-aae1-920874605462
DTSTAMP:20260420T171448Z
SUMMARY:Work Force Prep Youth Hiring Fair
DESCRIPTION:
X-ALT-DESC:FMTTYPE=text/html:<!DOCTYPE HTML PUBLIC "-//W3C//DTD HTML 3.2//E
 N"><HTML></HTML>
CREATED;TZID=Asia/Seoul:20250114T111929
URL;VALUE=URI:https://daegu.armymwr.com/calendar/event
DTSTART;TZID=Asia/Seoul:20250204T143000
DTEND;TZID=Asia/Seoul:20250205T170000
SEQUENCE:0
END:VEVENT
END:VCALENDAR
