BEGIN:VCALENDAR
VERSION:2.0
PRODID:-//Sabre//Sabre VObject 4.5.8//EN
CALSCALE:GREGORIAN
BEGIN:VEVENT
UID:sabre-vobject-7864e623-a15d-4eb4-88ae-7cb87d08506f
DTSTAMP:20260421T111350Z
SUMMARY:January Birthday Bowling Bash
DESCRIPTION:
X-ALT-DESC:FMTTYPE=text/html:<!DOCTYPE HTML PUBLIC "-//W3C//DTD HTML 3.2//E
 N"><HTML></HTML>
CREATED;TZID=Asia/Seoul:20250102T162951
URL;VALUE=URI:https://daegu.armymwr.com/calendar/event
DTSTART;TZID=Asia/Seoul:20250110T180000
DTEND;TZID=Asia/Seoul:20250110T200000
SEQUENCE:0
END:VEVENT
END:VCALENDAR
