BEGIN:VCALENDAR
VERSION:2.0
PRODID:-//Sabre//Sabre VObject 4.5.8//EN
CALSCALE:GREGORIAN
BEGIN:VEVENT
UID:sabre-vobject-d881cd80-dd40-49c2-ac8c-a4958dc12f5b
DTSTAMP:20260419T223202Z
SUMMARY:Early Evening 8 Ball Tournament
DESCRIPTION:
X-ALT-DESC:FMTTYPE=text/html:<!DOCTYPE HTML PUBLIC "-//W3C//DTD HTML 3.2//E
 N"><HTML></HTML>
CREATED;TZID=Asia/Seoul:20250102T162455
URL;VALUE=URI:https://daegu.armymwr.com/calendar/event
DTSTART;TZID=Asia/Seoul:20250227T170000
DTEND;TZID=Asia/Seoul:20250227T190000
SEQUENCE:0
END:VEVENT
END:VCALENDAR
