BEGIN:VCALENDAR
VERSION:2.0
PRODID:-//Sabre//Sabre VObject 4.5.8//EN
CALSCALE:GREGORIAN
BEGIN:VEVENT
UID:sabre-vobject-58fe65a4-3005-4dd9-9076-41354b5a0cef
DTSTAMP:20260420T002605Z
SUMMARY:Early Evening Ping Pong Tournament
DESCRIPTION:
X-ALT-DESC:FMTTYPE=text/html:<!DOCTYPE HTML PUBLIC "-//W3C//DTD HTML 3.2//E
 N"><HTML></HTML>
CREATED;TZID=Asia/Seoul:20250102T161735
URL;VALUE=URI:https://daegu.armymwr.com/calendar/event
DTSTART;TZID=Asia/Seoul:20250219T170000
DTEND;TZID=Asia/Seoul:20250219T190000
SEQUENCE:0
END:VEVENT
END:VCALENDAR
