BEGIN:VCALENDAR
VERSION:2.0
PRODID:-//Sabre//Sabre VObject 4.5.8//EN
CALSCALE:GREGORIAN
BEGIN:VEVENT
UID:sabre-vobject-4feb4a6f-989d-431c-83c2-cb2ca93f478e
DTSTAMP:20260421T075544Z
SUMMARY:Paint and Pour
DESCRIPTION:
X-ALT-DESC:FMTTYPE=text/html:<!DOCTYPE HTML PUBLIC "-//W3C//DTD HTML 3.2//E
 N"><HTML></HTML>
CREATED;TZID=Asia/Seoul:20250102T160355
URL;VALUE=URI:https://daegu.armymwr.com/calendar/event
DTSTART;TZID=Asia/Seoul:20250115T180000
DTEND;TZID=Asia/Seoul:20250115T200000
SEQUENCE:0
END:VEVENT
END:VCALENDAR
