BEGIN:VCALENDAR
VERSION:2.0
PRODID:-//Sabre//Sabre VObject 4.5.8//EN
CALSCALE:GREGORIAN
BEGIN:VEVENT
UID:sabre-vobject-8f9af171-9cd5-470e-b60e-401d7e72f7ea
DTSTAMP:20260421T203628Z
SUMMARY:Winter Field Trip CRAZY PANG PANG
DESCRIPTION:
X-ALT-DESC:FMTTYPE=text/html:<!DOCTYPE HTML PUBLIC "-//W3C//DTD HTML 3.2//E
 N"><HTML></HTML>
CREATED;TZID=Asia/Seoul:20241216T142752
URL;VALUE=URI:https://daegu.armymwr.com/calendar/event
DTSTART;TZID=Asia/Seoul:20241223T140000
DTEND;TZID=Asia/Seoul:20241223T183000
SEQUENCE:0
END:VEVENT
END:VCALENDAR
