BEGIN:VCALENDAR
VERSION:2.0
PRODID:-//Sabre//Sabre VObject 4.5.8//EN
CALSCALE:GREGORIAN
BEGIN:VEVENT
UID:sabre-vobject-6f3b05f0-4696-4408-96ce-82e76e0b45eb
DTSTAMP:20260421T111352Z
SUMMARY:Ski/Snowboard Tour Muju Resort
DESCRIPTION:
X-ALT-DESC:FMTTYPE=text/html:<!DOCTYPE HTML PUBLIC "-//W3C//DTD HTML 3.2//E
 N"><HTML></HTML>
CREATED;TZID=Asia/Seoul:20241205T083746
URL;VALUE=URI:https://daegu.armymwr.com/calendar/event
DTSTART;TZID=Asia/Seoul:20250111T000000
DTEND;TZID=Asia/Seoul:20250111T235959
SEQUENCE:0
END:VEVENT
END:VCALENDAR
