BEGIN:VCALENDAR
VERSION:2.0
PRODID:-//Sabre//Sabre VObject 4.5.8//EN
CALSCALE:GREGORIAN
BEGIN:VEVENT
UID:sabre-vobject-9edeb57c-cf9b-4b33-ae73-52e05f0a725e
DTSTAMP:20260421T222259Z
SUMMARY:Gingerbread House Decorating
DESCRIPTION:
X-ALT-DESC:FMTTYPE=text/html:<!DOCTYPE HTML PUBLIC "-//W3C//DTD HTML 3.2//E
 N"><HTML></HTML>
CREATED;TZID=Asia/Seoul:20241202T112635
URL;VALUE=URI:https://daegu.armymwr.com/calendar/event
DTSTART;TZID=Asia/Seoul:20241215T110000
DTEND;TZID=Asia/Seoul:20241215T120000
SEQUENCE:0
END:VEVENT
END:VCALENDAR
