BEGIN:VCALENDAR
VERSION:2.0
PRODID:-//Sabre//Sabre VObject 4.5.8//EN
CALSCALE:GREGORIAN
BEGIN:VEVENT
UID:sabre-vobject-09958b85-c2bc-4c74-a373-735815eeaf30
DTSTAMP:20260421T140456Z
SUMMARY:Hotspring waterpark & Theme park
DESCRIPTION:
X-ALT-DESC:FMTTYPE=text/html:<!DOCTYPE HTML PUBLIC "-//W3C//DTD HTML 3.2//E
 N"><HTML></HTML>
CREATED;TZID=Asia/Seoul:20241115T111556
URL;VALUE=URI:https://daegu.armymwr.com/calendar/event
DTSTART;TZID=Asia/Seoul:20250104T000000
DTEND;TZID=Asia/Seoul:20250104T235959
SEQUENCE:0
END:VEVENT
END:VCALENDAR
