BEGIN:VCALENDAR
VERSION:2.0
PRODID:-//Sabre//Sabre VObject 4.5.8//EN
CALSCALE:GREGORIAN
BEGIN:VEVENT
UID:sabre-vobject-b0c9bbba-222e-440f-9cdf-dcf9c275361d
DTSTAMP:20260419T211250Z
SUMMARY:WATERCOLOR PAINTING FOR BEGINNERS
DESCRIPTION:
X-ALT-DESC:FMTTYPE=text/html:<!DOCTYPE HTML PUBLIC "-//W3C//DTD HTML 3.2//E
 N"><HTML></HTML>
CREATED;TZID=Asia/Seoul:20250117T091735
URL;VALUE=URI:https://daegu.armymwr.com/calendar/event
DTSTART;TZID=Asia/Seoul:20250315T160000
DTEND;TZID=Asia/Seoul:20250315T180000
SEQUENCE:0
END:VEVENT
END:VCALENDAR
