BEGIN:VCALENDAR
VERSION:2.0
PRODID:-//Sabre//Sabre VObject 4.5.8//EN
CALSCALE:GREGORIAN
BEGIN:VEVENT
UID:sabre-vobject-166616eb-38e9-43bd-bcc8-465064415c9d
DTSTAMP:20260421T222254Z
SUMMARY:Customer Appreciation  National Hot Cocoa Day
DESCRIPTION:
X-ALT-DESC:FMTTYPE=text/html:<!DOCTYPE HTML PUBLIC "-//W3C//DTD HTML 3.2//E
 N"><HTML></HTML>
CREATED;TZID=Asia/Seoul:20241113T130529
URL;VALUE=URI:https://daegu.armymwr.com/calendar/event
DTSTART;TZID=Asia/Seoul:20241212T110000
DTEND;TZID=Asia/Seoul:20241212T130000
SEQUENCE:0
END:VEVENT
END:VCALENDAR
