BEGIN:VCALENDAR
VERSION:2.0
PRODID:-//Sabre//Sabre VObject 4.5.8//EN
CALSCALE:GREGORIAN
BEGIN:VEVENT
UID:sabre-vobject-5df1c9d2-9a15-4648-bfa4-343753106db8
DTSTAMP:20260422T051505Z
SUMMARY:Fairways Thanksgiving Buffet
DESCRIPTION:
X-ALT-DESC:FMTTYPE=text/html:<!DOCTYPE HTML PUBLIC "-//W3C//DTD HTML 3.2//E
 N"><HTML></HTML>
CREATED;TZID=Asia/Seoul:20241113T162816
URL;VALUE=URI:https://daegu.armymwr.com/calendar/event
DTSTART;TZID=Asia/Seoul:20241128T110000
DTEND;TZID=Asia/Seoul:20241128T140000
SEQUENCE:0
END:VEVENT
END:VCALENDAR
