BEGIN:VCALENDAR
VERSION:2.0
PRODID:-//Sabre//Sabre VObject 4.5.8//EN
CALSCALE:GREGORIAN
BEGIN:VEVENT
UID:sabre-vobject-4d4a0d0f-cf34-47e7-97f7-5bd8b77ed00b
DTSTAMP:20260422T130123Z
SUMMARY:Turkey Trot
DESCRIPTION:
X-ALT-DESC:FMTTYPE=text/html:<!DOCTYPE HTML PUBLIC "-//W3C//DTD HTML 3.2//E
 N"><HTML></HTML>
CREATED;TZID=Asia/Seoul:20241104T160345
URL;VALUE=URI:https://daegu.armymwr.com/calendar/event
DTSTART;TZID=Asia/Seoul:20241128T080000
DTEND;TZID=Asia/Seoul:20241128T100000
SEQUENCE:0
END:VEVENT
END:VCALENDAR
