BEGIN:VCALENDAR
VERSION:2.0
PRODID:-//Sabre//Sabre VObject 4.5.8//EN
CALSCALE:GREGORIAN
BEGIN:VEVENT
UID:sabre-vobject-0dd0ed8b-3bd2-4c6b-be9b-adaeef3e695b
DTSTAMP:20260422T021044Z
SUMMARY:CAMP CARROLL THREE LIGHTING CEREMONY
DESCRIPTION:
X-ALT-DESC:FMTTYPE=text/html:<!DOCTYPE HTML PUBLIC "-//W3C//DTD HTML 3.2//E
 N"><HTML></HTML>
CREATED;TZID=Asia/Seoul:20241031T151132
URL;VALUE=URI:https://daegu.armymwr.com/calendar/event
DTSTART;TZID=Asia/Seoul:20241204T173000
DTEND;TZID=Asia/Seoul:20241204T184000
SEQUENCE:0
END:VEVENT
END:VCALENDAR
