BEGIN:VCALENDAR
VERSION:2.0
PRODID:-//Sabre//Sabre VObject 4.5.8//EN
CALSCALE:GREGORIAN
BEGIN:VEVENT
UID:sabre-vobject-f136c7bf-4a2b-4108-a6bb-ea94b35eb9b9
DTSTAMP:20260423T051224Z
SUMMARY:Youth vs. Parents Bowling Party
DESCRIPTION:
X-ALT-DESC:FMTTYPE=text/html:<!DOCTYPE HTML PUBLIC "-//W3C//DTD HTML 3.2//E
 N"><HTML></HTML>
CREATED;TZID=Asia/Seoul:20241030T115856
URL;VALUE=URI:https://daegu.armymwr.com/calendar/event
DTSTART;TZID=Asia/Seoul:20241115T180000
DTEND;TZID=Asia/Seoul:20241115T200000
SEQUENCE:0
END:VEVENT
END:VCALENDAR
