BEGIN:VCALENDAR
VERSION:2.0
PRODID:-//Sabre//Sabre VObject 4.5.8//EN
CALSCALE:GREGORIAN
BEGIN:VEVENT
UID:sabre-vobject-d1c9b800-bd11-42e8-8e66-08cb8605ead9
DTSTAMP:20260423T065409Z
SUMMARY:Busan Lotte World Field Trip
DESCRIPTION:
X-ALT-DESC:FMTTYPE=text/html:<!DOCTYPE HTML PUBLIC "-//W3C//DTD HTML 3.2//E
 N"><HTML></HTML>
CREATED;TZID=Asia/Seoul:20241030T115620
URL;VALUE=URI:https://daegu.armymwr.com/calendar/event
DTSTART;TZID=Asia/Seoul:20241108T090000
DTEND;TZID=Asia/Seoul:20241108T180000
SEQUENCE:0
END:VEVENT
END:VCALENDAR
