BEGIN:VCALENDAR
VERSION:2.0
PRODID:-//Sabre//Sabre VObject 4.5.8//EN
CALSCALE:GREGORIAN
BEGIN:VEVENT
UID:sabre-vobject-280cd609-a594-4944-b4f0-082be86c5f31
DTSTAMP:20260423T051131Z
SUMMARY:Spanish Makeral Fishing
DESCRIPTION:
X-ALT-DESC:FMTTYPE=text/html:<!DOCTYPE HTML PUBLIC "-//W3C//DTD HTML 3.2//E
 N"><HTML></HTML>
CREATED;TZID=Asia/Seoul:20241023T151312
URL;VALUE=URI:https://daegu.armymwr.com/calendar/event
DTSTART;TZID=Asia/Seoul:20241116T000000
DTEND;TZID=Asia/Seoul:20241116T235959
SEQUENCE:0
END:VEVENT
END:VCALENDAR
