BEGIN:VCALENDAR
VERSION:2.0
PRODID:-//Sabre//Sabre VObject 4.5.8//EN
CALSCALE:GREGORIAN
BEGIN:VEVENT
UID:sabre-vobject-c65e4a3c-cc40-4a91-a341-ca1c8f22e500
DTSTAMP:20260421T220815Z
SUMMARY:Ski/Snowboard\, Water World\, Snow World\, Casino & Christmas Event
  Tour 
DESCRIPTION:
X-ALT-DESC:FMTTYPE=text/html:<!DOCTYPE HTML PUBLIC "-//W3C//DTD HTML 3.2//E
 N"><HTML></HTML>
CREATED;TZID=Asia/Seoul:20241018T112750
URL;VALUE=URI:https://daegu.armymwr.com/calendar/event
DTSTART;TZID=Asia/Seoul:20241228T000000
DTEND;TZID=Asia/Seoul:20241229T235959
SEQUENCE:0
END:VEVENT
END:VCALENDAR
