BEGIN:VCALENDAR
VERSION:2.0
PRODID:-//Sabre//Sabre VObject 4.5.8//EN
CALSCALE:GREGORIAN
BEGIN:VEVENT
UID:sabre-vobject-4ef04673-108f-4a38-ba78-a7d4e88137b8
DTSTAMP:20260422T131509Z
SUMMARY:Old Blue House & Seoul Tour
DESCRIPTION:
X-ALT-DESC:FMTTYPE=text/html:<!DOCTYPE HTML PUBLIC "-//W3C//DTD HTML 3.2//E
 N"><HTML></HTML>
CREATED;TZID=Asia/Seoul:20241017T111654
URL;VALUE=URI:https://daegu.armymwr.com/calendar/event
DTSTART;TZID=Asia/Seoul:20241123T000000
DTEND;TZID=Asia/Seoul:20241123T235959
SEQUENCE:0
END:VEVENT
END:VCALENDAR
