BEGIN:VCALENDAR
VERSION:2.0
PRODID:-//Sabre//Sabre VObject 4.5.8//EN
CALSCALE:GREGORIAN
BEGIN:VEVENT
UID:sabre-vobject-ef821568-5aa4-4aff-8708-f022eb6a2c3d
DTSTAMP:20260423T052107Z
SUMMARY:Zipline & Mungyeong Monorail tour
DESCRIPTION:
X-ALT-DESC:FMTTYPE=text/html:<!DOCTYPE HTML PUBLIC "-//W3C//DTD HTML 3.2//E
 N"><HTML></HTML>
CREATED;TZID=Asia/Seoul:20241010T084707
URL;VALUE=URI:https://daegu.armymwr.com/calendar/event
DTSTART;TZID=Asia/Seoul:20241110T000000
DTEND;TZID=Asia/Seoul:20241110T235959
SEQUENCE:0
END:VEVENT
END:VCALENDAR
