BEGIN:VCALENDAR
VERSION:2.0
PRODID:-//Sabre//Sabre VObject 4.5.8//EN
CALSCALE:GREGORIAN
BEGIN:VEVENT
UID:sabre-vobject-d58da99a-fd18-4644-80bc-efc391ccc4f5
DTSTAMP:20260424T100410Z
SUMMARY:DVAM PANEL DISCUSSION @ CAMP WALKER CAC
DESCRIPTION:
X-ALT-DESC:FMTTYPE=text/html:<!DOCTYPE HTML PUBLIC "-//W3C//DTD HTML 3.2//E
 N"><HTML></HTML>
CREATED;TZID=Asia/Seoul:20241001T153042
URL;VALUE=URI:https://daegu.armymwr.com/calendar/event
DTSTART;TZID=Asia/Seoul:20241017T093000
DTEND;TZID=Asia/Seoul:20241017T113000
SEQUENCE:0
END:VEVENT
END:VCALENDAR
