BEGIN:VCALENDAR
VERSION:2.0
PRODID:-//Sabre//Sabre VObject 4.5.8//EN
CALSCALE:GREGORIAN
BEGIN:VEVENT
UID:sabre-vobject-5a740f5f-e08b-469c-8a08-cd484ad7b9a8
DTSTAMP:20260424T083248Z
SUMMARY:DVAM PANEL DISCUSSION @ CAMP CARROLL CAC
DESCRIPTION:
X-ALT-DESC:FMTTYPE=text/html:<!DOCTYPE HTML PUBLIC "-//W3C//DTD HTML 3.2//E
 N"><HTML></HTML>
CREATED;TZID=Asia/Seoul:20241001T152949
URL;VALUE=URI:https://daegu.armymwr.com/calendar/event
DTSTART;TZID=Asia/Seoul:20241010T093000
DTEND;TZID=Asia/Seoul:20241010T113000
SEQUENCE:0
END:VEVENT
END:VCALENDAR
