BEGIN:VCALENDAR
VERSION:2.0
PRODID:-//Sabre//Sabre VObject 4.5.8//EN
CALSCALE:GREGORIAN
BEGIN:VEVENT
UID:sabre-vobject-3e8780a3-751f-4128-9b7e-7951a8d01d6f
DTSTAMP:20260422T051507Z
SUMMARY:Lunchtime Foosball Tournament
DESCRIPTION:
X-ALT-DESC:FMTTYPE=text/html:<!DOCTYPE HTML PUBLIC "-//W3C//DTD HTML 3.2//E
 N"><HTML></HTML>
CREATED;TZID=Asia/Seoul:20241010T093720
URL;VALUE=URI:https://daegu.armymwr.com/calendar/event
DTSTART;TZID=Asia/Seoul:20241127T113000
DTEND;TZID=Asia/Seoul:20241127T123000
SEQUENCE:0
END:VEVENT
END:VCALENDAR
