BEGIN:VCALENDAR
VERSION:2.0
PRODID:-//Sabre//Sabre VObject 4.5.8//EN
CALSCALE:GREGORIAN
BEGIN:VEVENT
UID:sabre-vobject-2ac218e1-c99a-4af4-8bd7-c78b3bfae5c5
DTSTAMP:20260422T031308Z
SUMMARY:CHRISTMAS PAJAMA PARTY PLAY MORNING
DESCRIPTION:
X-ALT-DESC:FMTTYPE=text/html:<!DOCTYPE HTML PUBLIC "-//W3C//DTD HTML 3.2//E
 N"><HTML></HTML>
CREATED;TZID=Asia/Seoul:20241202T143642
URL;VALUE=URI:https://daegu.armymwr.com/calendar/event
DTSTART;TZID=Asia/Seoul:20241217T100000
DTEND;TZID=Asia/Seoul:20241217T113000
SEQUENCE:0
END:VEVENT
END:VCALENDAR
