BEGIN:VCALENDAR
VERSION:2.0
PRODID:-//Sabre//Sabre VObject 4.5.8//EN
CALSCALE:GREGORIAN
BEGIN:VEVENT
UID:sabre-vobject-fa207109-5e10-4204-8fe6-192b5222f3a0
DTSTAMP:20260423T210002Z
SUMMARY:UNITED AGAINST ABUSE 5K RUN
DESCRIPTION:
X-ALT-DESC:FMTTYPE=text/html:<!DOCTYPE HTML PUBLIC "-//W3C//DTD HTML 3.2//E
 N"><HTML></HTML>
CREATED;TZID=Asia/Seoul:20240909T112255
URL;VALUE=URI:https://daegu.armymwr.com/calendar/event
DTSTART;TZID=Asia/Seoul:20241010T060000
DTEND;TZID=Asia/Seoul:20241010T073000
SEQUENCE:0
END:VEVENT
BEGIN:VEVENT
UID:sabre-vobject-5f78031d-9b53-47c7-a991-4d8487c82f6d
DTSTAMP:20260423T210002Z
SUMMARY:UNITED AGAINST ABUSE 5K RUN
DESCRIPTION:
X-ALT-DESC:FMTTYPE=text/html:<!DOCTYPE HTML PUBLIC "-//W3C//DTD HTML 3.2//E
 N"><HTML></HTML>
CREATED;TZID=Asia/Seoul:20240909T112255
URL;VALUE=URI:https://daegu.armymwr.com/calendar/event
DTSTART;TZID=Asia/Seoul:20241017T060000
DTEND;TZID=Asia/Seoul:20241017T073000
SEQUENCE:1
END:VEVENT
END:VCALENDAR
