BEGIN:VCALENDAR
VERSION:2.0
PRODID:-//Sabre//Sabre VObject 4.5.8//EN
CALSCALE:GREGORIAN
BEGIN:VEVENT
UID:sabre-vobject-af2a846e-aece-4a8c-a2d6-58a95c6c51fe
DTSTAMP:20260424T162752Z
SUMMARY:Parent's Night Out
DESCRIPTION:
X-ALT-DESC:FMTTYPE=text/html:<!DOCTYPE HTML PUBLIC "-//W3C//DTD HTML 3.2//E
 N"><HTML></HTML>
CREATED;TZID=Asia/Seoul:20240906T085440
URL;VALUE=URI:https://daegu.armymwr.com/calendar/event
DTSTART;TZID=Asia/Seoul:20241004T183000
DTEND;TZID=Asia/Seoul:20241004T223000
SEQUENCE:0
END:VEVENT
END:VCALENDAR
