BEGIN:VCALENDAR
VERSION:2.0
PRODID:-//Sabre//Sabre VObject 4.5.8//EN
CALSCALE:GREGORIAN
BEGIN:VEVENT
UID:sabre-vobject-112da571-3678-44a0-9ed7-ec4e54da3ba4
DTSTAMP:20260424T042804Z
SUMMARY:Silla Culture Festival & Tangerine Picking Tour (Gyeong-Ju)
DESCRIPTION:
X-ALT-DESC:FMTTYPE=text/html:<!DOCTYPE HTML PUBLIC "-//W3C//DTD HTML 3.2//E
 N"><HTML></HTML>
CREATED;TZID=Asia/Seoul:20240911T170046
URL;VALUE=URI:https://daegu.armymwr.com/calendar/event
DTSTART;TZID=Asia/Seoul:20241013T000000
DTEND;TZID=Asia/Seoul:20241013T235959
SEQUENCE:0
END:VEVENT
END:VCALENDAR
