BEGIN:VCALENDAR
VERSION:2.0
PRODID:-//Sabre//Sabre VObject 4.5.8//EN
CALSCALE:GREGORIAN
BEGIN:VEVENT
UID:sabre-vobject-95c22c3e-d0ab-4e76-a556-3f1fc14cda87
DTSTAMP:20260424T083250Z
SUMMARY:NBA2K on the Big Screen
DESCRIPTION:
X-ALT-DESC:FMTTYPE=text/html:<!DOCTYPE HTML PUBLIC "-//W3C//DTD HTML 3.2//E
 N"><HTML></HTML>
CREATED;TZID=Asia/Seoul:20240819T110955
URL;VALUE=URI:https://daegu.armymwr.com/calendar/event
DTSTART;TZID=Asia/Seoul:20241010T163000
DTEND;TZID=Asia/Seoul:20241010T173000
SEQUENCE:0
END:VEVENT
END:VCALENDAR
