BEGIN:VCALENDAR
VERSION:2.0
PRODID:-//Sabre//Sabre VObject 4.5.8//EN
CALSCALE:GREGORIAN
BEGIN:VEVENT
UID:sabre-vobject-a8ea94b0-0dd9-4b6f-b5b9-70404b486102
DTSTAMP:20260424T025903Z
SUMMARY:VIETNAM - Hoi An & Da Nang
DESCRIPTION:
X-ALT-DESC:FMTTYPE=text/html:<!DOCTYPE HTML PUBLIC "-//W3C//DTD HTML 3.2//E
 N"><HTML></HTML>
CREATED;TZID=Asia/Seoul:20240715T144158
URL;VALUE=URI:https://daegu.armymwr.com/calendar/event
DTSTART;TZID=Asia/Seoul:20241010T000000
DTEND;TZID=Asia/Seoul:20241014T235959
SEQUENCE:0
END:VEVENT
END:VCALENDAR
