BEGIN:VCALENDAR
VERSION:2.0
PRODID:-//Sabre//Sabre VObject 4.5.8//EN
CALSCALE:GREGORIAN
BEGIN:VEVENT
UID:sabre-vobject-e33ece49-4b59-451e-9376-f6be7e04563a
DTSTAMP:20260420T140456Z
SUMMARY:ACRYLIC PAINTING CLASS - Lovely Birds
DESCRIPTION:
X-ALT-DESC:FMTTYPE=text/html:<!DOCTYPE HTML PUBLIC "-//W3C//DTD HTML 3.2//E
 N"><HTML></HTML>
CREATED;TZID=Asia/Seoul:20240110T164918
URL;VALUE=URI:https://daegu.armymwr.com/calendar/event
DTSTART;TZID=Asia/Seoul:20240214T173000
DTEND;TZID=Asia/Seoul:20240214T190000
SEQUENCE:0
END:VEVENT
END:VCALENDAR
