BEGIN:VCALENDAR
VERSION:2.0
PRODID:-//Sabre//Sabre VObject 4.5.8//EN
CALSCALE:GREGORIAN
BEGIN:VEVENT
UID:sabre-vobject-a1c1b013-8e94-454f-9acc-fdba92d64036
DTSTAMP:20260420T191636Z
SUMMARY:Candle Making
DESCRIPTION:
X-ALT-DESC:FMTTYPE=text/html:<!DOCTYPE HTML PUBLIC "-//W3C//DTD HTML 3.2//E
 N"><HTML></HTML>
CREATED;TZID=Asia/Seoul:20240103T135642
URL;VALUE=URI:https://daegu.armymwr.com/calendar/event
DTSTART;TZID=Asia/Seoul:20240214T160000
DTEND;TZID=Asia/Seoul:20240214T180000
SEQUENCE:0
END:VEVENT
END:VCALENDAR
