BEGIN:VCALENDAR
VERSION:2.0
PRODID:-//Sabre//Sabre VObject 4.5.8//EN
CALSCALE:GREGORIAN
BEGIN:VEVENT
UID:sabre-vobject-790c84c5-a434-4349-b50c-c8f30e0cf923
DTSTAMP:20260421T092114Z
SUMMARY:MLK BASKETBALL (3-ON-3) TOURNAMENT
DESCRIPTION:
X-ALT-DESC:FMTTYPE=text/html:<!DOCTYPE HTML PUBLIC "-//W3C//DTD HTML 3.2//E
 N"><HTML></HTML>
CREATED;TZID=Asia/Seoul:20240103T134244
URL;VALUE=URI:https://daegu.armymwr.com/calendar/event
DTSTART;TZID=Asia/Seoul:20240115T100000
DTEND;TZID=Asia/Seoul:20240115T110000
SEQUENCE:0
END:VEVENT
END:VCALENDAR
