BEGIN:VCALENDAR
VERSION:2.0
PRODID:-//Sabre//Sabre VObject 4.5.8//EN
CALSCALE:GREGORIAN
BEGIN:VEVENT
UID:sabre-vobject-c1a55401-786f-4509-821b-e2bab90b68be
DTSTAMP:20260421T104700Z
SUMMARY:Hoops After Hours: Late-Night Basketball
DESCRIPTION:
X-ALT-DESC:FMTTYPE=text/html:<!DOCTYPE HTML PUBLIC "-//W3C//DTD HTML 3.2//E
 N"><HTML></HTML>
CREATED;TZID=Asia/Seoul:20231218T155637
URL;VALUE=URI:https://daegu.armymwr.com/calendar/event
DTSTART;TZID=Asia/Seoul:20240112T190000
DTEND;TZID=Asia/Seoul:20240112T220000
SEQUENCE:0
END:VEVENT
END:VCALENDAR
