BEGIN:VCALENDAR
VERSION:2.0
PRODID:-//Sabre//Sabre VObject 4.5.8//EN
CALSCALE:GREGORIAN
BEGIN:VEVENT
UID:sabre-vobject-45fd55b8-a0e6-44bc-8fc6-5ece1dffea73
DTSTAMP:20260421T092114Z
SUMMARY:Family Movie Night at Walker Library
DESCRIPTION:
X-ALT-DESC:FMTTYPE=text/html:<!DOCTYPE HTML PUBLIC "-//W3C//DTD HTML 3.2//E
 N"><HTML></HTML>
CREATED;TZID=Asia/Seoul:20240108T101840
URL;VALUE=URI:https://daegu.armymwr.com/calendar/event
DTSTART;TZID=Asia/Seoul:20240117T170000
DTEND;TZID=Asia/Seoul:20240117T190000
SEQUENCE:0
END:VEVENT
END:VCALENDAR
