BEGIN:VCALENDAR
VERSION:2.0
PRODID:-//Sabre//Sabre VObject 4.5.8//EN
CALSCALE:GREGORIAN
BEGIN:VEVENT
UID:sabre-vobject-79c62a20-0f27-4c61-a3ac-3a7257aea200
DTSTAMP:20260421T151949Z
SUMMARY:Customize Shoes with Fabric Paint
DESCRIPTION:
X-ALT-DESC:FMTTYPE=text/html:<!DOCTYPE HTML PUBLIC "-//W3C//DTD HTML 3.2//E
 N"><HTML></HTML>
CREATED;TZID=Asia/Seoul:20231218T120624
URL;VALUE=URI:https://daegu.armymwr.com/calendar/event
DTSTART;TZID=Asia/Seoul:20240113T150000
DTEND;TZID=Asia/Seoul:20240113T160000
SEQUENCE:0
END:VEVENT
END:VCALENDAR
