BEGIN:VCALENDAR
VERSION:2.0
PRODID:-//Sabre//Sabre VObject 4.5.8//EN
CALSCALE:GREGORIAN
BEGIN:VEVENT
UID:sabre-vobject-ca9491e1-9c17-4337-a6ec-a07d18f5450d
DTSTAMP:20260421T182129Z
SUMMARY:Spinner Top- 3D Print Projects
DESCRIPTION:
X-ALT-DESC:FMTTYPE=text/html:<!DOCTYPE HTML PUBLIC "-//W3C//DTD HTML 3.2//E
 N"><HTML></HTML>
CREATED;TZID=Asia/Seoul:20231218T113408
URL;VALUE=URI:https://daegu.armymwr.com/calendar/event
DTSTART;TZID=Asia/Seoul:20240124T173000
DTEND;TZID=Asia/Seoul:20240124T190000
SEQUENCE:0
END:VEVENT
END:VCALENDAR
