BEGIN:VCALENDAR
VERSION:2.0
PRODID:-//Sabre//Sabre VObject 4.5.8//EN
CALSCALE:GREGORIAN
BEGIN:VEVENT
UID:sabre-vobject-229e3729-0fbd-462f-803c-e72f5e7de5d5
DTSTAMP:20260419T203438Z
SUMMARY:Indoor Rock Climbing
DESCRIPTION:
X-ALT-DESC:FMTTYPE=text/html:<!DOCTYPE HTML PUBLIC "-//W3C//DTD HTML 3.2//E
 N"><HTML></HTML>
CREATED;TZID=Asia/Seoul:20240124T092737
URL;VALUE=URI:https://daegu.armymwr.com/calendar/event
DTSTART;TZID=Asia/Seoul:20240224T100000
DTEND;TZID=Asia/Seoul:20240224T160000
SEQUENCE:0
END:VEVENT
END:VCALENDAR
