BEGIN:VCALENDAR
VERSION:2.0
PRODID:-//Sabre//Sabre VObject 4.5.8//EN
CALSCALE:GREGORIAN
BEGIN:VEVENT
UID:sabre-vobject-486d0076-cbea-4fe6-966b-95672c3757d9
DTSTAMP:20260420T002509Z
SUMMARY:Basketball Game
DESCRIPTION:
X-ALT-DESC:FMTTYPE=text/html:<!DOCTYPE HTML PUBLIC "-//W3C//DTD HTML 3.2//E
 N"><HTML></HTML>
CREATED;TZID=Asia/Seoul:20231130T085754
URL;VALUE=URI:https://daegu.armymwr.com/calendar/event
DTSTART;TZID=Asia/Seoul:20221215T190000
DTEND;TZID=Asia/Seoul:20221215T200000
SEQUENCE:0
END:VEVENT
END:VCALENDAR
