BEGIN:VCALENDAR
VERSION:2.0
PRODID:-//Sabre//Sabre VObject 4.5.8//EN
CALSCALE:GREGORIAN
BEGIN:VEVENT
UID:sabre-vobject-369dd4f9-4f3a-44b5-96f8-1f9a1d3bac53
DTSTAMP:20260425T115807Z
SUMMARY:Welcome 2024 Ping Pong Tournament
DESCRIPTION:
X-ALT-DESC:FMTTYPE=text/html:<!DOCTYPE HTML PUBLIC "-//W3C//DTD HTML 3.2//E
 N"><HTML></HTML>
CREATED;TZID=Asia/Seoul:20231101T133339
URL;VALUE=URI:https://daegu.armymwr.com/calendar/event
DTSTART;TZID=Asia/Seoul:20231228T160000
DTEND;TZID=Asia/Seoul:20231228T170000
SEQUENCE:0
END:VEVENT
END:VCALENDAR
