BEGIN:VCALENDAR
VERSION:2.0
PRODID:-//Sabre//Sabre VObject 4.5.8//EN
CALSCALE:GREGORIAN
BEGIN:VEVENT
UID:sabre-vobject-931ba18e-6302-4d29-b704-69346bed5d3f
DTSTAMP:20260422T114046Z
SUMMARY:Annual Turkey Day 8 Ball Tournament
DESCRIPTION:
X-ALT-DESC:FMTTYPE=text/html:<!DOCTYPE HTML PUBLIC "-//W3C//DTD HTML 3.2//E
 N"><HTML></HTML>
CREATED;TZID=Asia/Seoul:20241010T093602
URL;VALUE=URI:https://daegu.armymwr.com/calendar/event
DTSTART;TZID=Asia/Seoul:20241121T143000
DTEND;TZID=Asia/Seoul:20241121T170000
SEQUENCE:0
END:VEVENT
END:VCALENDAR
