BEGIN:VCALENDAR
VERSION:2.0
PRODID:-//Sabre//Sabre VObject 4.5.8//EN
CALSCALE:GREGORIAN
BEGIN:VEVENT
UID:sabre-vobject-ee8c90f8-6711-4c27-9c93-0ae1b9f8b28c
DTSTAMP:20260421T185654Z
SUMMARY:FIRST CHILD FINANCIAL CLASS
DESCRIPTION:
X-ALT-DESC:FMTTYPE=text/html:<!DOCTYPE HTML PUBLIC "-//W3C//DTD HTML 3.2//E
 N"><HTML></HTML>
CREATED;TZID=Asia/Seoul:20241202T115735
URL;VALUE=URI:https://daegu.armymwr.com/calendar/event
DTSTART;TZID=Asia/Seoul:20241219T140000
DTEND;TZID=Asia/Seoul:20241219T150000
SEQUENCE:0
END:VEVENT
END:VCALENDAR
