BEGIN:VCALENDAR
VERSION:2.0
PRODID:-//Sabre//Sabre VObject 4.5.8//EN
CALSCALE:GREGORIAN
BEGIN:VEVENT
UID:sabre-vobject-548f0bfb-118a-4413-96c6-15c23e0743d1
DTSTAMP:20260423T051223Z
SUMMARY:Seomun Night Market Adventure
DESCRIPTION:
X-ALT-DESC:FMTTYPE=text/html:<!DOCTYPE HTML PUBLIC "-//W3C//DTD HTML 3.2//E
 N"><HTML></HTML>
CREATED;TZID=Asia/Seoul:20240927T135257
URL;VALUE=URI:https://daegu.armymwr.com/calendar/event
DTSTART;TZID=Asia/Seoul:20241116T183000
DTEND;TZID=Asia/Seoul:20241116T210000
SEQUENCE:0
END:VEVENT
END:VCALENDAR
