BEGIN:VCALENDAR
VERSION:2.0
PRODID:-//Sabre//Sabre VObject 4.5.8//EN
CALSCALE:GREGORIAN
BEGIN:VEVENT
UID:sabre-vobject-6ad38f05-9528-42d6-92b7-2881f247c816
DTSTAMP:20260420T092913Z
SUMMARY:HOW TO CLEAN UP 3D PRINT PROJECTS
DESCRIPTION:
X-ALT-DESC:FMTTYPE=text/html:<!DOCTYPE HTML PUBLIC "-//W3C//DTD HTML 3.2//E
 N"><HTML></HTML>
CREATED;TZID=Asia/Seoul:20221201T103258
URL;VALUE=URI:https://daegu.armymwr.com/calendar/event
DTSTART;TZID=Asia/Seoul:20221230T173000
DTEND;TZID=Asia/Seoul:20221230T183000
SEQUENCE:0
END:VEVENT
END:VCALENDAR
