BEGIN:VCALENDAR
VERSION:2.0
PRODID:-//Sabre//Sabre VObject 4.5.8//EN
CALSCALE:GREGORIAN
BEGIN:VEVENT
UID:sabre-vobject-4d089de3-c9be-4680-aa96-802c08909cdb
DTSTAMP:20260420T060433Z
SUMMARY:WINTER BREAK Field Trips - ROCK CLIMBING
DESCRIPTION:
X-ALT-DESC:FMTTYPE=text/html:<!DOCTYPE HTML PUBLIC "-//W3C//DTD HTML 3.2//E
 N"><HTML></HTML>
CREATED;TZID=Asia/Seoul:20221201T100935
URL;VALUE=URI:https://daegu.armymwr.com/calendar/event
DTSTART;TZID=Asia/Seoul:20221222T133000
DTEND;TZID=Asia/Seoul:20221222T173000
SEQUENCE:0
END:VEVENT
END:VCALENDAR
