BEGIN:VCALENDAR
VERSION:2.0
PRODID:-//Sabre//Sabre VObject 4.5.8//EN
CALSCALE:GREGORIAN
BEGIN:VEVENT
UID:sabre-vobject-68301f8c-cd15-4a02-bfdb-8b9a69bdb083
DTSTAMP:20260420T004524Z
SUMMARY:WINTER BREAK Field Trips - BUSAN LOTTE WORLD
DESCRIPTION:
X-ALT-DESC:FMTTYPE=text/html:<!DOCTYPE HTML PUBLIC "-//W3C//DTD HTML 3.2//E
 N"><HTML></HTML>
CREATED;TZID=Asia/Seoul:20221201T100547
URL;VALUE=URI:https://daegu.armymwr.com/calendar/event
DTSTART;TZID=Asia/Seoul:20221220T093000
DTEND;TZID=Asia/Seoul:20221220T173000
SEQUENCE:0
END:VEVENT
END:VCALENDAR
