BEGIN:VCALENDAR
VERSION:2.0
PRODID:-//Sabre//Sabre VObject 4.5.8//EN
CALSCALE:GREGORIAN
BEGIN:VEVENT
UID:sabre-vobject-6b1e919f-d804-4fcc-9319-5f463a799156
DTSTAMP:20260420T092915Z
SUMMARY:Pajama Holiday Movie Marathon Day
DESCRIPTION:
X-ALT-DESC:FMTTYPE=text/html:<!DOCTYPE HTML PUBLIC "-//W3C//DTD HTML 3.2//E
 N"><HTML></HTML>
CREATED;TZID=Asia/Seoul:20221201T095618
URL;VALUE=URI:https://daegu.armymwr.com/calendar/event
DTSTART;TZID=Asia/Seoul:20221223T130000
DTEND;TZID=Asia/Seoul:20221223T180000
SEQUENCE:0
END:VEVENT
END:VCALENDAR
