BEGIN:VCALENDAR
VERSION:2.0
PRODID:-//Sabre//Sabre VObject 4.5.8//EN
CALSCALE:GREGORIAN
BEGIN:VEVENT
UID:sabre-vobject-4906a77f-b2d3-4d74-b522-00f4459480c5
DTSTAMP:20260420T034813Z
SUMMARY:ICE SKATING FIELD TRIP
DESCRIPTION:
X-ALT-DESC:FMTTYPE=text/html:<!DOCTYPE HTML PUBLIC "-//W3C//DTD HTML 3.2//E
 N"><HTML></HTML>
CREATED;TZID=Asia/Seoul:20221201T094204
URL;VALUE=URI:https://daegu.armymwr.com/calendar/event
DTSTART;TZID=Asia/Seoul:20221209T000000
DTEND;TZID=Asia/Seoul:20221209T235959
SEQUENCE:0
END:VEVENT
END:VCALENDAR
